BEGIN:VCALENDAR
BEGIN:VEVENT
DESCRIPTION:\nMore Information: https://tickets.thecinematheque.ca/websales/pages/TicketSearchCriteria.aspx?evtInfo=296515~c720b4d8-2524-4617-94b4-09d7b2ffa465&\n\n
DTSTART:20210716T032000Z
DTEND:20210716T050300Z
LOCATION:The Cinematheque, 1131 Howe Street, Vancouver, BC, V6Z 2L7
SUMMARY:Sweetgrass
UID:296515
DTSTAMP:20260423T033802Z
END:VEVENT
END:VCALENDAR
